BEGIN:VCALENDAR
VERSION:2.0
PRODID:-//Tidewater Events - ECPv6.15.20//NONSGML v1.0//EN
CALSCALE:GREGORIAN
METHOD:PUBLISH
X-WR-CALNAME:Tidewater Events
X-ORIGINAL-URL:https://tidewaterevents.co.uk
X-WR-CALDESC:Events for Tidewater Events
REFRESH-INTERVAL;VALUE=DURATION:PT1H
X-Robots-Tag:noindex
X-PUBLISHED-TTL:PT1H
BEGIN:VTIMEZONE
TZID:Europe/London
BEGIN:DAYLIGHT
TZOFFSETFROM:+0000
TZOFFSETTO:+0100
TZNAME:BST
DTSTART:20250330T010000
END:DAYLIGHT
BEGIN:STANDARD
TZOFFSETFROM:+0100
TZOFFSETTO:+0000
TZNAME:GMT
DTSTART:20251026T010000
END:STANDARD
BEGIN:DAYLIGHT
TZOFFSETFROM:+0000
TZOFFSETTO:+0100
TZNAME:BST
DTSTART:20260329T010000
END:DAYLIGHT
BEGIN:STANDARD
TZOFFSETFROM:+0100
TZOFFSETTO:+0000
TZNAME:GMT
DTSTART:20261025T010000
END:STANDARD
BEGIN:DAYLIGHT
TZOFFSETFROM:+0000
TZOFFSETTO:+0100
TZNAME:BST
DTSTART:20270328T010000
END:DAYLIGHT
BEGIN:STANDARD
TZOFFSETFROM:+0100
TZOFFSETTO:+0000
TZNAME:GMT
DTSTART:20271031T010000
END:STANDARD
END:VTIMEZONE
BEGIN:VEVENT
DTSTART;TZID=Europe/London:20260425T100000
DTEND;TZID=Europe/London:20260425T180000
DTSTAMP:20260421T124103
CREATED:20260124T223343Z
LAST-MODIFIED:20260227T221112Z
UID:3765-1777111200-1777140000@tidewaterevents.co.uk
SUMMARY:Aetherfest 4: Combined Arms
DESCRIPTION:War. It never changes. \nGive people spells or steel\, and they will use them to kill each other.  \nEmpires rose\, the world burned\, and the magic ran dry. \nNow only scraps remain… and still they fight. \nBecause the tools may change. \nBut War never does… \nWhat is Aetherpunk28? \nAetherpunk28 is a post apocalyptic Wizard skirmish game where colleges of Wizards battle one another in the ruins of their world\, fighting over what little magic is left after the end of the world. \nFrom the absolute idiots who brought you Turnip on the Docks\, we humbly present the return of AETHERFEST\, the world’s largest Aetherpunk28 event! \nAetherfest brings the magical chaos of Haggerland to the East coast. Join the search for Erudite\, fix your wand bayonets\, and be ready. \nTICKETS & WIZARDLY GARB: \nAt one of the earliest tidewater events\, we ran a pre-order for t-shirts. We’ve been asked several times since\, if we’d be bringing t-shirts back. Our answer was always\, “When the stars are right…” before throwing a smoke bomb at the ground and beating a crafty retreat.  Well\, wait no longer! \nWe’ve made 10 combo tickets available\, as well as 10 standard tickets (for those of you who refuse to succumb to fomo)\, as we have to adjust quantities manually – if the combo tickets are sold out\, give us a nudge and we’ll adjust quantities. We’ll send out an email asking for shirt sizes when the preorder ends (31st March)\, so that we can get them all ordered in time for you to collect them on the day. Shirts are available in male or female S to XXL. \nAnyone who preorders a t-shirt and wears it on the day gets +1 dice. \nRULES & FORMAT: \nAll colleges in the most recent version of the rulebook\, as well as all previously released Spellbound Gazettes will be valid for use. \nAetherfest 4 will be running a little differently to previous games\, so make sure you read the player pack thoroughly! \nNUMBER OF GAMES: \n4 games. \nThis will consist of 1 game\, followed by a meeting with your general\, who will assign you to a battleground for your second\, third and fourth games. If the timer stops and a game is still ongoing\, then the current player can finish their current activation. The opponent is then allowed to activate one model. If there is nothing left to activate\, then the game ends. \nSIZE OF GAMES: \nEach player must bring a 75 shilling combined arms list according to the player pack. This is a friendly event and we strongly encourage people to bring enjoyable lists. This will NOT be a competitive environment. \nWHAT TO BRING: \nBring your college\, fully assembled. If it’s painted\, that’s a bonus\, but no stress!\nAccessories – Dice\, tokens (as required)\, tape measure and army rules. \nWe HIGHLY RECOMMEND you print a copy of your college’s rules and spells on a separate piece of A4 (as well as filling out a roster sheet)\, to save time flicking through the rulebook during gameplay. \nHOW THE DAY WILL RUN: \nDoors open at 10:00 for player registration\, with the aim to start at 10:45 after a quick introductory speech. We’ll break for lunch around 13:00\, and announce results at 18:00. \nREFUNDS: \nWe will do our best to help if your circumstances change and you can’t attend. No refund can be processed after 11th April.
URL:https://tidewaterevents.co.uk/event/aetherfest-4-combined-arms
LOCATION:The Great Escape\, 1 Auckland Road\, Grimsby\, DN31 3RP\, United Kingdom
CATEGORIES:Aetherpunk
ATTACH;FMTTYPE=image/png:https://res.cloudinary.com/dajfkj15p/images/f_auto,q_auto/v1775740513/Aefest4-16x9-1/Aefest4-16x9-1.png?_i=AA
ORGANIZER;CN="Tidewater Events":MAILTO:info@tidewaterevents.co.uk
END:VEVENT
BEGIN:VEVENT
DTSTART;TZID=Europe/London:20260613T100000
DTEND;TZID=Europe/London:20260613T180000
DTSTAMP:20260421T124103
CREATED:20260416T135538Z
LAST-MODIFIED:20260417T112059Z
UID:4229-1781344800-1781373600@tidewaterevents.co.uk
SUMMARY:Gorkamorka on the Docks
DESCRIPTION:Time to dust off your Trukks\, gather up the boyz\, because it’s time for WAAAGH! \nMore info to come. \nTickets include a full set of tokens for playing the game and a Turny Gubbinz vehicle turning tool\, which players will receive on arrival.
URL:https://tidewaterevents.co.uk/event/gorkamorka-on-the-docks
LOCATION:The Great Escape\, 1 Auckland Road\, Grimsby\, DN31 3RP\, United Kingdom
CATEGORIES:Gorkamorka
ORGANIZER;CN="Tidewater Events":MAILTO:info@tidewaterevents.co.uk
END:VEVENT
BEGIN:VEVENT
DTSTART;TZID=Europe/London:20260711T100000
DTEND;TZID=Europe/London:20260711T180000
DTSTAMP:20260421T124103
CREATED:20260416T135855Z
LAST-MODIFIED:20260416T135855Z
UID:4232-1783764000-1783792800@tidewaterevents.co.uk
SUMMARY:TBD
DESCRIPTION:We’re not going to tell you what this is yet\, but you’re gonna like it. \nSee you soon. x
URL:https://tidewaterevents.co.uk/event/tbd
END:VEVENT
BEGIN:VEVENT
DTSTART;TZID=Europe/London:20260905T100000
DTEND;TZID=Europe/London:20260905T180000
DTSTAMP:20260421T124103
CREATED:20260416T140513Z
LAST-MODIFIED:20260417T112323Z
UID:4235-1788602400-1788631200@tidewaterevents.co.uk
SUMMARY:Turnip on the Docks 7
DESCRIPTION:You thought you’d come here and have a little sneaky peek\, see what the theme is\, didn’t you? \nWell\, the joke’s on you! The theme hasn’t been announced yet! \nBut rest assured\, it’s going to be a fun one. Might even be the best one yet. Check back soon for details. \nAnd if you’re brave\, or foolhardy enough\, you may even want to grab a ticket…
URL:https://tidewaterevents.co.uk/event/turnip-on-the-docks-7
LOCATION:The Great Escape\, 1 Auckland Road\, Grimsby\, DN31 3RP\, United Kingdom
CATEGORIES:Turnip28
ORGANIZER;CN="Tidewater Events":MAILTO:info@tidewaterevents.co.uk
END:VEVENT
END:VCALENDAR